BEGIN:VCALENDAR
VERSION:2.0
PRODID:-//eventon.com NONSGML v1.0//EN
CALSCALE:GREGORIAN
METHOD:PUBLISH
BEGIN:VEVENT
UID:69e9f85d281b3
DTSTAMP:20260423T104549Z
DTSTART:20260829
DTEND:20260830
LOCATION:
SUMMARY:Reuzenfair
DESCRIPTION:Reuzenfair\nhttps://hetambachtshuisje.nl/events/reuzenfair/
URL:https://hetambachtshuisje.nl/events/reuzenfair/
END:VEVENT
END:VCALENDAR